BEGIN:VCALENDAR
VERSION:2.0
PRODID:spatie/icalendar-generator
DESCRIPTION:Veranstaltungen von Jahnschule Wiesbaden
X-WR-CALDESC:Veranstaltungen von Jahnschule Wiesbaden
REFRESH-INTERVAL;VALUE=DURATION:PT1440M
X-PUBLISHED-TTL:PT1440M
BEGIN:VTIMEZONE
TZID:Etc/GMT-2
BEGIN:STANDARD
DTSTART:20190305T100000Z
TZOFFSETFROM:+0200
TZOFFSETTO:+0200
END:STANDARD
END:VTIMEZONE
BEGIN:VTIMEZONE
TZID:UTC
BEGIN:STANDARD
DTSTART:20250729T161016Z
TZOFFSETFROM:+0000
TZOFFSETTO:+0000
END:STANDARD
END:VTIMEZONE
BEGIN:VEVENT
UID:292-200
DTSTAMP:20260425T161016Z
SUMMARY:Tag der offenen Tür IGS-Kastellstraße
LOCATION:
ORGANIZER;CN=Jutta K.-Bachmann:MAILTO:juttakbam@gmx.de
DTSTART;TZID=Etc/GMT-2:20191130T100000
DTEND;TZID=Etc/GMT-2:20191130T130000
X-ALT-DESC;FMTTYPE=TEXT/HTML:http://portal.igsks.de/
CATEGORIES:General
URL;VALUE=URI:https://www.jahnschule-wiesbaden.de/mc-events/tag-der-offenen
 -tuer-igs-kastellstrasse/
METHOD:PUBLISH
END:VEVENT
END:VCALENDAR