BEGIN:VCALENDAR
VERSION:2.0
PRODID:spatie/icalendar-generator
DESCRIPTION:Veranstaltungen von Jahnschule Wiesbaden
X-WR-CALDESC:Veranstaltungen von Jahnschule Wiesbaden
REFRESH-INTERVAL;VALUE=DURATION:PT1440M
X-PUBLISHED-TTL:PT1440M
BEGIN:VTIMEZONE
TZID:Etc/GMT-2
BEGIN:STANDARD
DTSTART:20190312T100000Z
TZOFFSETFROM:+0200
TZOFFSETTO:+0200
END:STANDARD
END:VTIMEZONE
BEGIN:VTIMEZONE
TZID:UTC
BEGIN:STANDARD
DTSTART:20250729T165411Z
TZOFFSETFROM:+0000
TZOFFSETTO:+0000
END:STANDARD
END:VTIMEZONE
BEGIN:VEVENT
UID:295-203
DTSTAMP:20260425T165411Z
SUMMARY:Tag der offenen Tür Elly-Heuss-Schule
LOCATION:
ORGANIZER;CN=Jutta K.-Bachmann:MAILTO:juttakbam@gmx.de
DTSTART;TZID=Etc/GMT-2:20191207T100000
DTEND;TZID=Etc/GMT-2:20191207T130000
X-ALT-DESC;FMTTYPE=TEXT/HTML:https://www.elly-heuss-schule-wiesbaden.de/
CATEGORIES:General
URL;VALUE=URI:https://www.jahnschule-wiesbaden.de/mc-events/tag-der-offenen
 -tuer-elly-heuss-schule/
METHOD:PUBLISH
END:VEVENT
END:VCALENDAR