BEGIN:VCALENDAR
VERSION:2.0
PRODID:spatie/icalendar-generator
DESCRIPTION:Veranstaltungen von Jahnschule Wiesbaden
X-WR-CALDESC:Veranstaltungen von Jahnschule Wiesbaden
REFRESH-INTERVAL;VALUE=DURATION:PT1440M
X-PUBLISHED-TTL:PT1440M
BEGIN:VTIMEZONE
TZID:Etc/GMT-2
BEGIN:STANDARD
DTSTART:20181116T083000Z
TZOFFSETFROM:+0200
TZOFFSETTO:+0200
END:STANDARD
END:VTIMEZONE
BEGIN:VTIMEZONE
TZID:UTC
BEGIN:STANDARD
DTSTART:20250727T182649Z
TZOFFSETFROM:+0000
TZOFFSETTO:+0000
END:STANDARD
END:VTIMEZONE
BEGIN:VEVENT
UID:243-152
DTSTAMP:20260423T182649Z
SUMMARY:Einschulungsfeier für die Vorklasse und die Klasse 1c
LOCATION:Mensa der Friedrich-Ludwig-Jahn-Schule
ORGANIZER;CN=Jutta K.-Bachmann:MAILTO:juttakbam@gmx.de
DTSTART;TZID=Etc/GMT-2:20190813T083000
DTEND;TZID=Etc/GMT-2:20190813T100000
X-ALT-DESC;FMTTYPE=TEXT/HTML:Von 8:30 Uhr bis circa 9:15 Uhr findet die Ein
 schulungsfeier in der Mensa statt. Danach gehen die Kinder mit ihrer Klass
 enlehrerin in ihre Klasse. Die Eltern werden auf dem Schulhof bei Kaffee u
 nd Kuchen von den Eltern des 2. Jahrgangs empfangen. Um circa 10 Uhr komme
 n die Kinder aus ihren Klassen zurück.
CATEGORIES:General
URL;VALUE=URI:https://www.jahnschule-wiesbaden.de/mc-events/einschulungsfei
 er-fuer-die-vorklasse-und-die-klasse-1c/
METHOD:PUBLISH
END:VEVENT
END:VCALENDAR